BEGIN:VCALENDAR
VERSION:2.0
PRODID:-//Incompass Michigan - ECPv6.5.1.4//NONSGML v1.0//EN
CALSCALE:GREGORIAN
METHOD:PUBLISH
X-ORIGINAL-URL:https://incompass.qltddev.com
X-WR-CALDESC:Events for Incompass Michigan
REFRESH-INTERVAL;VALUE=DURATION:PT1H
X-Robots-Tag:noindex
X-PUBLISHED-TTL:PT1H
BEGIN:VTIMEZONE
TZID:America/Detroit
BEGIN:DAYLIGHT
TZOFFSETFROM:-0500
TZOFFSETTO:-0400
TZNAME:EDT
DTSTART:20240310T070000
END:DAYLIGHT
BEGIN:STANDARD
TZOFFSETFROM:-0400
TZOFFSETTO:-0500
TZNAME:EST
DTSTART:20241103T060000
END:STANDARD
END:VTIMEZONE
BEGIN:VEVENT
DTSTART;TZID=America/Detroit:20240708T090000
DTEND;TZID=America/Detroit:20240709T160000
DTSTAMP:20260421T183101
CREATED:20240617T143348Z
LAST-MODIFIED:20240619T204928Z
UID:10000037-1720429200-1720540800@incompass.qltddev.com
SUMMARY:ACRE Certification: In-Person Workshop
DESCRIPTION:This 2-day\, 12-hour workshop will cover all the necessary skills to provide customized employment to the persons served. \n\n\n\n\n\n\n\nDESCRIPTION \n\n\n\nThe ACRE Employment Services certificate helps to build a foundation of knowledge and skills\, including those used in customized employment\, to assist people with disabilities to achieve and maintain competitive employment.  VR is currently developing additional training requirements for providers specializing in customized employment. This curriculum may not align with VR expectations for credentialed staff providing Customized Employment to MRS or BSBP – Incompass Michigan will continue to work with our VR partners to establish a sustainable credentialing process for customized employment practitioners. \n\n\n\nModules include: \n\n\n\n\nApplication of Core Values and Principles of Practice\n\n\n\nIndividualized Assessment and Employment/Career Planning\n\n\n\nCommunity Research and Job Development\n\n\n\nWorkplace and Related Supports\n\n\n\n\n\n\n\n\nTUITION \n\n\n\n\nWorkshop Only: $249 non-members | $199 members \n\n\n\nWorkshop and Certificate: $399 non-members | $349 members\n\n\n\n\n\n\nREGISTER HERE\n\n\n\n\n\nRegistration deadline July 1\, 2024. \n\n\n\n\n\n\n\n\n\n\n\nPRESENTER \n\n\n\nFacilitated by Heather Barsy \n\n\n\nNon-profit professional with 10+ years experience managing teams to exceptional outcomes. Specialized skills in program creation\, design\, and management with an emphasis on cultural change. Passionate about improving the social determinants of health for under-resourced populations. \n\n\n\n\n\n\n\nTO TAKE THIS TRAINING ATTENDEES NEED \n\n\n\nAttendees will be provided resources via our Learning Management System. For in-person sessions\, please ensure you have transportation and any learning materials you may need. \n\n\n\n\n\n\n\n\nYou will be emailed event information for your registered session 1 week prior to the event. Contact kkinde@incompassmi.org with questions.  \n\n\n\n\n\n\n\n\nHaving issues? Read our Event Policies and FAQ \n\n\n\n“No-Shows” will not be eligible for a refund. Refund requests are subject to a $25 processing fee. No refunds will be given after June 15.  \n\n\n\nSubstitutions are accepted. The recording is meant for viewing by the original registrant. If another person attends your live sessions or views your recordings\, it will forfeit your access to the LMS recordings.  \n\n\n\nIf you register and are unable to attend\, please contact Katie Kinde kkinde@incompassmi.org at least one week before the event.  \n\n\n\n\n\n\n\n\n\n\n\n\n\n\n\n\nIncompass Michigan is committed to event accessibility. \n\n\n\nPlease note accommodation requests on your registration by 06/1/24 as advance notice is necessary to arrange for some accessibility needs or contact Katie Kinde\, kkinde@incompassmi.org with any questions. 
URL:https://incompass.qltddev.com/event/acre-certification-in-person-workshop/
CATEGORIES:Continuing Education,In-Person
ATTACH;FMTTYPE=image/png:https://incompass.qltddev.com/wp-content/uploads/2024/06/Education-Arrow@2x.png
END:VEVENT
BEGIN:VEVENT
DTSTART;TZID=America/Detroit:20240716T140000
DTEND;TZID=America/Detroit:20240716T160000
DTSTAMP:20260421T183101
CREATED:20240521T202606Z
LAST-MODIFIED:20240613T155345Z
UID:10000027-1721138400-1721145600@incompass.qltddev.com
SUMMARY:Job Coach Training: General Disability Awareness and Characteristics of Autism
DESCRIPTION:This course is created for those who assist persons with disabilities during their job\, such as job coaches or vocational rehabilitation specialists.\n\n\n\n\n\n\n\nDESCRIPTION \n\n\n\nThis is one of four courses offered in the Job Coach Training Series. \n\n\n\nAttendee will be provided information on disability statistics in Michigan\, including employment data. Disability will be discussed\, specifically autism and characteristic commonly observed. \n\n\n\n\n\n\n\nTUITION \n\n\n\nPer Session: $90 non-members | $65 members \n\n\n\nAll 4 Sessions: $325 non-members | $215 members \n\n\n\nAll 4 Sessions + Recordings: $345 non-members | $250 members Access to recordings is only available with this option. \n\n\n\n\nREGISTER HERE
URL:https://incompass.qltddev.com/event/general-disability-awareness-and-characteristics-of-autism/
CATEGORIES:Virtual
ATTACH;FMTTYPE=image/png:https://incompass.qltddev.com/wp-content/uploads/2024/06/Education-Arrow@2x.png
END:VEVENT
BEGIN:VEVENT
DTSTART;TZID=America/Detroit:20240717T080000
DTEND;TZID=America/Detroit:20240717T100000
DTSTAMP:20260421T183102
CREATED:20240621T031613Z
LAST-MODIFIED:20240712T151844Z
UID:10000041-1721203200-1721210400@incompass.qltddev.com
SUMMARY:Coffee with MIOSHA - In Person
DESCRIPTION:MIOSHA and Incompass Michigan invite Michigan employers and employees to share a cup of coffee and learn about the importance of workplace safety and health.\n\n\n\n\n\n\n\nDESCRIPTION \n\n\n\nCoffee with MIOSHA are informal networking events for safety professionals and allow employers and employees to meet with MIOSHA administrative\, enforcement and consultative staff to ask questions and learn about our programs and services. \n\n\n\n\n\n\n\nTUITION \n\n\n\nFree Event \n\n\n\n\n\nREGISTER HERE
URL:https://incompass.qltddev.com/event/coffee-with-miosha-2/
CATEGORIES:Safety Training
ATTACH;FMTTYPE=image/png:https://incompass.qltddev.com/wp-content/uploads/2024/06/Education-Arrow@2x.png
END:VEVENT
BEGIN:VEVENT
DTSTART;TZID=America/Detroit:20240718T140000
DTEND;TZID=America/Detroit:20240718T160000
DTSTAMP:20260421T183102
CREATED:20240521T202829Z
LAST-MODIFIED:20240613T155458Z
UID:10000028-1721311200-1721318400@incompass.qltddev.com
SUMMARY:Job Coach Training: Assessing Needs and Communicating with Your Team
DESCRIPTION:This course is created for those who assist persons with disabilities during their job\, such as job coaches or vocational rehabilitation specialists.\n\n\n\n\n\n\n\nDESCRIPTION \n\n\n\nThis is one of four courses offered in the Job Coach Training Series. \n\n\n\nAttendee will learn about the role of a job coach and the importance of assessing the workplace\, trainee production\, social skills\, and how to use task analysis in the assessment process. Communication strategies with your team\, including the trainee will discussed. \n\n\n\n\n\n\n\nTUITION \n\n\n\nPer Session: $90 non-members | $65 members \n\n\n\nAll 4 Sessions: $325 non-members | $215 members \n\n\n\nAll 4 Sessions + Recordings: $345 non-members | $250 members Access to recordings is only available with this option. \n\n\n\n\nREGISTER HERE
URL:https://incompass.qltddev.com/event/job-coach-training-assessing-needs-and-communicating-with-your-team/
CATEGORIES:Virtual
ATTACH;FMTTYPE=image/png:https://incompass.qltddev.com/wp-content/uploads/2024/06/Education-Arrow@2x.png
END:VEVENT
BEGIN:VEVENT
DTSTART;TZID=America/Detroit:20240722T140000
DTEND;TZID=America/Detroit:20240722T150000
DTSTAMP:20260421T183102
CREATED:20240529T175957Z
LAST-MODIFIED:20240613T153721Z
UID:10000034-1721656800-1721660400@incompass.qltddev.com
SUMMARY:Implicit Bias – 1 SW Ethics CEU Approved
DESCRIPTION:Many clients with disabilities and from other diverse populations are impacted by implicit bias in the workplace\, community\, and within our own service settings. This 1-hour virtual training will assist professionals in overcoming ethical obstacles involving implicit bias by increasing multi-cultural competencies and providing best practices.\n\n\n\n\n\n\n\nDESCRIPTION \n\n\n\nWe have an ethical obligation to reduce our implicit bias\, so as not to serve as an additional barrier to clients accessing and obtaining equitable healthcare\, employment\, and other services or even putting your professional relationship at risk. This interactive presentation will demonstrate how to overcome this obstacle including\, but not limited to: differentiating explicit versus implicit bias\, various examples of implicit bias with historical context\, identifying ethical risks and implications for professionals\, tangible methods to identify and address our own implicit bias to reduce disparities in healthcare service delivery and access\, etc. We will end with a facilitated discussion because hearing from other professionals within the field is the best way to find new ideas and resources for assisting our clients! \n\n\n\nLARA and CEUs \n\n\n\n\nLARA – The Public Health Code General Rules have been revised by the Bureau of Professional Licensing (BPL) within the Department of Licensing and Regulatory Affairs (LARA). It requires implicit bias training\, effective June 1\, 2022\, on-demand approved March 28\, 2023. If you would like to know more information about the LARA rules\, please visit this link.\n\n\n\nCEU – 1 SW in Ethics\n\n\n\n\nTrainings will be held via Zoom(Session will not be recorded) \n\n\n\n\n\n\n\nTUITION \n\n\n\n$75 non-members | $50 members \n\n\n\n\nREGISTER HERE\n\n\n\n\nRegistration deadline July 22\, 2024. \n\n\n\n\n\n\n\n\n\n\n\nPRESENTER \n\n\n\nFacilitated by Christa Martin\, MRC\, CRC \n\n\n\nChrista Martin\, MRC\, CRC is the Disability & Community Outreach Specialist for DirectEmployers Association (DE). DE is a non-profit member association built by employers\, for employers. She works closely with DE’s 1k+ Member companies to implement better DEIAB strategies and connect them with Vocational Rehabilitation services\, American Job Centers\, Employment Networks\, Community Rehabilitation Programs\, and other DE Partners for improved recruitment and retention of individuals with disabilities. She also works closely with DE Partners to increase positive employment outcomes in competitive integrated employment for people with disabilities. \n\n\n\n\n\n\n\nYou will be emailed Zoom login information for your registered session(s) 1 week prior to the event. Contact kkinde@incompassmi.org with questions.  \n\n\n\n\n\n\n\nContact kkinde@incompassmi.org to schedule a training for your organization. For a 1 hour private training for 30 employees\, member pricing is $1260. \n\n\n\nHaving issues? Read our Event Policies and FAQ \n\n\n\nRefund requests are subject to a $25 processing fee. No refunds after July 10. Substitutions for those who attend are permitted with prior notice. \n\n\n\n“No-Shows” will not be eligible for a refund. If you register\, and are unable to attend\, please contact Katie Kinde kkinde@incompassmi.org at least one week before the event. 
URL:https://incompass.qltddev.com/event/implicit-bias-1-sw-ethics-ceu-approved/
CATEGORIES:Continuing Education,Virtual
ATTACH;FMTTYPE=image/png:https://incompass.qltddev.com/wp-content/uploads/2024/06/Education-Arrow@2x.png
END:VEVENT
BEGIN:VEVENT
DTSTART;TZID=America/Detroit:20240723T140000
DTEND;TZID=America/Detroit:20240723T160000
DTSTAMP:20260421T183102
CREATED:20240521T202859Z
LAST-MODIFIED:20240613T155714Z
UID:10000029-1721743200-1721750400@incompass.qltddev.com
SUMMARY:Job Coach Training: Strategies\, Natural Supports and Accommodations
DESCRIPTION:This course is created for those who assist persons with disabilities during their job\, such as job coaches or vocational rehabilitation specialists.\n\n\n\n\n\n\n\nDESCRIPTION \n\n\n\nThis is one of four courses offered in the Job Coach Training Series. \n\n\n\nAttendee will learn about a wide variety of evidenced-based strategies that can be used to ensure trainee success at their job. \n\n\n\n\n\n\n\nTUITION \n\n\n\nPer Session: $90 non-members | $65 members \n\n\n\nAll 4 Sessions: $325 non-members | $215 members \n\n\n\nAll 4 Sessions + Recordings: $345 non-members | $250 members Access to recordings is only available with this option. \n\n\n\n\nREGISTER HERE
URL:https://incompass.qltddev.com/event/job-coach-training-strategies-natural-supports-and-accommodations/
CATEGORIES:Virtual
ATTACH;FMTTYPE=image/png:https://incompass.qltddev.com/wp-content/uploads/2024/06/Education-Arrow@2x.png
END:VEVENT
BEGIN:VEVENT
DTSTART;TZID=America/Detroit:20240725T140000
DTEND;TZID=America/Detroit:20240725T160000
DTSTAMP:20260421T183102
CREATED:20240521T203101Z
LAST-MODIFIED:20240613T155800Z
UID:10000030-1721916000-1721923200@incompass.qltddev.com
SUMMARY:Job Coach Training: The Fading Process and Importance of Documentation
DESCRIPTION:This course is created for those who assist persons with disabilities during their job\, such as job coaches or vocational rehabilitation specialists.\n\n\n\n\n\n\n\nDESCRIPTION \n\n\n\nThis is one of four courses offered in the Job Coach Training Series. \n\n\n\nAttendee will learn about a wide variety of evidenced-based strategies that can be used to ensure trainee success at their job. \n\n\n\n\n\n\n\nTUITION \n\n\n\nPer Session: $90 non-members | $65 members \n\n\n\nAll 4 Sessions: $325 non-members | $215 members \n\n\n\nAll 4 Sessions + Recordings: $345 non-members | $250 members Access to recordings is only available with this option. \n\n\n\n\nREGISTER HERE
URL:https://incompass.qltddev.com/event/job-coach-training-the-fading-process-and-importance-of-documentation/
CATEGORIES:Virtual
ATTACH;FMTTYPE=image/png:https://incompass.qltddev.com/wp-content/uploads/2024/06/Education-Arrow@2x.png
END:VEVENT
END:VCALENDAR